BEGIN:VCALENDAR
VERSION:2.0
PRODID:-//Cena en Rojo//iOS//ES
CALSCALE:GREGORIAN
BEGIN:VEVENT
UID:cena-en-rojo-2026-@cenaenrojo.mx
DTSTAMP:20260201T120000
SUMMARY:Cena en Rojo 2026
DESCRIPTION:Boletos en https://check-in.cenaenrojo.mx?compra=
LOCATION:Papalote Museo del Niño, CDMX
DTSTART:20260429T190000
DTEND:20260429T230000
CLASS:PUBLIC
END:VEVENT
END:VCALENDAR
